BEGIN:VCALENDAR
VERSION:2.0
PRODID:-//Lahti-Seura ry - ECPv4.6.12//NONSGML v1.0//EN
CALSCALE:GREGORIAN
METHOD:PUBLISH
X-WR-CALNAME:Lahti-Seura ry
X-ORIGINAL-URL:http://www.lahtiseura.fi
X-WR-CALDESC:Events for Lahti-Seura ry
BEGIN:VEVENT
DTSTART;TZID=UTC+2:20171028T130000
DTEND;TZID=UTC+2:20171028T150000
DTSTAMP:20260420T163135
CREATED:20170809T161210Z
LAST-MODIFIED:20171023T184944Z
UID:661-1509195600-1509202800@www.lahtiseura.fi
SUMMARY:Vuosijuhla
DESCRIPTION:Historiallinen museo\nLahdenkatu 4 \nOHJELMA \nKlo 13 \n> 100 askelta Lahdessa -näyttely\, 1 krs.\n> Kahvittelu\, 1. krs. (Lahden Kartanon Ystävät ry.) \nKlo 14.30 2.krs \n> Avaussanat: Sauli Hirvonen\, Lahti-Seura ry\, puheenjohtaja \n> Kantele-esitys: Henna Määttänen \n> Juhlapuhe: Timo Taulo \n> Vuoden lahtelaisen julkistaminen. \n
URL:http://www.lahtiseura.fi/tapahtuma/vuosijuhla-3/
LOCATION:Lahdenkatu 4
CATEGORIES:tapahtuma
END:VEVENT
END:VCALENDAR