BEGIN:VCALENDAR
VERSION:2.0
PRODID:-//Lahti-Seura ry - ECPv4.6.12//NONSGML v1.0//EN
CALSCALE:GREGORIAN
METHOD:PUBLISH
X-WR-CALNAME:Lahti-Seura ry
X-ORIGINAL-URL:http://www.lahtiseura.fi
X-WR-CALDESC:Events for Lahti-Seura ry
BEGIN:VEVENT
DTSTART;VALUE=DATE:20160820
DTEND;VALUE=DATE:20160821
DTSTAMP:20260421T022511
CREATED:20160815T181139Z
LAST-MODIFIED:20160815T181139Z
UID:584-1471651200-1471737599@www.lahtiseura.fi
SUMMARY:Vuoden nuori lahtelainen
DESCRIPTION:Vuoden nuori lahtelainen 2016 -tunnustus jaetaan Lahti Block Partyssä Rautatienkadulla n. klo 18. \n
URL:http://www.lahtiseura.fi/tapahtuma/vuoden-nuori-lahtelainen/
CATEGORIES:tapahtuma
END:VEVENT
END:VCALENDAR