BEGIN:VCALENDAR
VERSION:2.0
PRODID:-//Lahti-Seura ry - ECPv4.6.12//NONSGML v1.0//EN
CALSCALE:GREGORIAN
METHOD:PUBLISH
X-WR-CALNAME:Lahti-Seura ry
X-ORIGINAL-URL:http://www.lahtiseura.fi
X-WR-CALDESC:Events for Lahti-Seura ry
BEGIN:VEVENT
DTSTART;TZID=UTC+2:20191201T000000
DTEND;TZID=UTC+2:20191231T235900
DTSTAMP:20260419T233946
CREATED:20191116T161439Z
LAST-MODIFIED:20191202T070211Z
UID:829-1575158400-1577836740@www.lahtiseura.fi
SUMMARY:Tulevaisuuden Lahti -piirustusnäyttely
DESCRIPTION:Lasten Lahti -hankkeen Tulevaisuuden piirustusnäyttely avautuu Lahti-Seuran verkkosivuilla. Näyttely sisältää 16 värikylläistä piirustusta tulevaisuuden Lahdesta. \n> NÄYTTELYYN \n
URL:http://www.lahtiseura.fi/tapahtuma/tulevaisuuden-lahti-piirustusnayttely/
CATEGORIES:tapahtuma
ORGANIZER;CN="Lahti-Seura%20ry":MAILTO:puheenjohtaja@lahtiseura.fi
END:VEVENT
END:VCALENDAR