BEGIN:VCALENDAR
VERSION:2.0
PRODID:-//Lahti-Seura ry - ECPv4.6.12//NONSGML v1.0//EN
CALSCALE:GREGORIAN
METHOD:PUBLISH
X-WR-CALNAME:Lahti-Seura ry
X-ORIGINAL-URL:http://www.lahtiseura.fi
X-WR-CALDESC:Events for Lahti-Seura ry
BEGIN:VEVENT
DTSTART;TZID=UTC+2:20131101T180000
DTEND;TZID=UTC+2:20131101T200000
DTSTAMP:20260421T224510
CREATED:20130515T121927Z
LAST-MODIFIED:20131006T092241Z
UID:233-1383328800-1383336000@www.lahtiseura.fi
SUMMARY:Syyskokous ja vuosijuhla
DESCRIPTION:Kaikille avoin vuosijuhla pidetään perjantaina marraskuun 1. päivä alkaen klo 19.  Tilaisuudessa mm. juhlapuhe\, musiikkiesitys sekä julkistetaan vuoden lahtelainen.  Kahvitarjoilu. \nEnnen juhlaa klo 18 alkaen seuran jäsenillä on mahdollista osallistua sääntömääräiseen syyskokoukseen. \nPaikkana Kannaksen lukion auditorio\, Kannaksenkatu 20.\nTervetuloa! \n
URL:http://www.lahtiseura.fi/tapahtuma/syyskokous-ja-vuosijuhla/
LOCATION:Kannaksenkatu 20\, Lahti
CATEGORIES:kokous,tapahtuma
END:VEVENT
END:VCALENDAR