BEGIN:VCALENDAR
VERSION:2.0
PRODID:-//Lahti-Seura ry - ECPv4.6.12//NONSGML v1.0//EN
CALSCALE:GREGORIAN
METHOD:PUBLISH
X-WR-CALNAME:Lahti-Seura ry
X-ORIGINAL-URL:http://www.lahtiseura.fi
X-WR-CALDESC:Events for Lahti-Seura ry
BEGIN:VEVENT
DTSTART;TZID=UTC+2:20211030T110000
DTEND;TZID=UTC+2:20211030T120000
DTSTAMP:20260419T162721
CREATED:20210412T171835Z
LAST-MODIFIED:20210412T171835Z
UID:971-1635591600-1635595200@www.lahtiseura.fi
SUMMARY:Syyskokous
DESCRIPTION:Sääntömääräinen syyskokous \n
URL:http://www.lahtiseura.fi/tapahtuma/syyskokous-6/
LOCATION:Saimaankatu 12\, Lahti
CATEGORIES:kokous
END:VEVENT
END:VCALENDAR