BEGIN:VCALENDAR
VERSION:2.0
PRODID:-//Lahti-Seura ry - ECPv4.6.12//NONSGML v1.0//EN
CALSCALE:GREGORIAN
METHOD:PUBLISH
X-WR-CALNAME:Lahti-Seura ry
X-ORIGINAL-URL:http://www.lahtiseura.fi
X-WR-CALDESC:Events for Lahti-Seura ry
BEGIN:VEVENT
DTSTART;TZID=UTC+2:20191127T170000
DTEND;TZID=UTC+2:20191127T190000
DTSTAMP:20260420T011558
CREATED:20181224T181039Z
LAST-MODIFIED:20190904T134525Z
UID:757-1574874000-1574881200@www.lahtiseura.fi
SUMMARY:Syyskokous & Vuoden lahtelainen
DESCRIPTION:Sääntömääräinen syyskokous Lahti-Seuran jäsenille. \nKokouksen jälkeen kaikille avoin tilaisuus.\n– Kahvittelu\n– Esitelmä: Limnologi Juha Keto aiheena Vesijärvi\n– Vuoden lahtelainen -tunnuksen jakaminen \n
URL:http://www.lahtiseura.fi/tapahtuma/syyskokous-4/
LOCATION:Saimaankatu 12\, Lahti
CATEGORIES:kokous
END:VEVENT
END:VCALENDAR