BEGIN:VCALENDAR
VERSION:2.0
PRODID:-//Lahti-Seura ry - ECPv4.6.12//NONSGML v1.0//EN
CALSCALE:GREGORIAN
METHOD:PUBLISH
X-WR-CALNAME:Lahti-Seura ry
X-ORIGINAL-URL:http://www.lahtiseura.fi
X-WR-CALDESC:Events for Lahti-Seura ry
BEGIN:VEVENT
DTSTART;TZID=UTC+2:20171214T180000
DTEND;TZID=UTC+2:20171214T190000
DTSTAMP:20260420T145634
CREATED:20170119T155041Z
LAST-MODIFIED:20171210T171736Z
UID:631-1513274400-1513278000@www.lahtiseura.fi
SUMMARY:Syyskokous
DESCRIPTION:Sääntömääräinen syyskokous seuran jäsenille.\nSyyskokouksen jälkeen (n. klo 18.30) Anne Karvinen-Jussilainen pitää kaikille avoimen esitelmän kartoista/kaavoituksesta. \n
URL:http://www.lahtiseura.fi/tapahtuma/syyskokous-2/
LOCATION:Saimaankatu 12\, Lahti
CATEGORIES:kokous
END:VEVENT
END:VCALENDAR