BEGIN:VCALENDAR
VERSION:2.0
PRODID:-//Lahti-Seura ry - ECPv4.6.12//NONSGML v1.0//EN
CALSCALE:GREGORIAN
METHOD:PUBLISH
X-WR-CALNAME:Lahti-Seura ry
X-ORIGINAL-URL:http://www.lahtiseura.fi
X-WR-CALDESC:Events for Lahti-Seura ry
BEGIN:VEVENT
DTSTART;TZID=UTC+2:20140904T170000
DTEND;TZID=UTC+2:20140904T190000
DTSTAMP:20260421T180605
CREATED:20140529T174431Z
LAST-MODIFIED:20140826T175751Z
UID:317-1409850000-1409857200@www.lahtiseura.fi
SUMMARY:Sota-ajan lapsuus ja nuoruus
DESCRIPTION:Lahti-Seura järjestää 4. syyskuuta Lahden yhteiskoulun auditoriossa tilaisuuden\, jonka aiheena on sota-ajan lapsuus ja nuoruus. Kertojana on Lahti-Seuran hallituksen jäsen Onerva Vartiainen. Tilaisuus alkaa klo 17. \nOnerva Vartiaisen tarina alkaa Lahdesta talvi- ja jatkosodasta. Sodan jälkeen Suomi eli niukkuudessa\, mutta sotakorvaukset maksettiin. Jälleenrakennuksen aikaan urheilijoilla oli tärkeä rooli kansakunnan hengen nostattajina\, kuin myös sillä\, että olympialaiset järjestettiin Suomessa 1952. Suomalainen muotoilu herätti maailmalla kiinnostusta. Suomi alkoi nousta. \nTilaisuuteen vapaa pääsy\, tervetuloa!\nLahden Yhteiskoulu\, auditorio\, Kirkkokatu 2. \n
URL:http://www.lahtiseura.fi/tapahtuma/sota-ajan-lapsuus-ja-nuoruus/
LOCATION:Kirkkokatu 2\, Lahti
CATEGORIES:tapahtuma
END:VEVENT
END:VCALENDAR