BEGIN:VCALENDAR
VERSION:2.0
PRODID:-//Lahti-Seura ry - ECPv4.6.12//NONSGML v1.0//EN
CALSCALE:GREGORIAN
METHOD:PUBLISH
X-WR-CALNAME:Lahti-Seura ry
X-ORIGINAL-URL:http://www.lahtiseura.fi
X-WR-CALDESC:Events for Lahti-Seura ry
BEGIN:VEVENT
DTSTART;TZID=UTC+2:20141103T190000
DTEND;TZID=UTC+2:20141103T200000
DTSTAMP:20260421T163043
CREATED:20140227T192157Z
LAST-MODIFIED:20141030T195759Z
UID:297-1415041200-1415044800@www.lahtiseura.fi
SUMMARY:Seuran vuosijuhla
DESCRIPTION:Lyseon juhlasalissa klo 19 alkaen kaikille avoin vuosijuhla. \nTilaisuudessa mm. juhlapuhe sekä julkistetaan vuoden lahtelainen. \nVuosijuhlan ohjelma. \n
URL:http://www.lahtiseura.fi/tapahtuma/seuran-vuosijuhla/
LOCATION:Lahdenkatu 6\, Lahti
CATEGORIES:tapahtuma
END:VEVENT
END:VCALENDAR