BEGIN:VCALENDAR
VERSION:2.0
PRODID:-//Lahti-Seura ry - ECPv4.6.12//NONSGML v1.0//EN
CALSCALE:GREGORIAN
METHOD:PUBLISH
X-WR-CALNAME:Lahti-Seura ry
X-ORIGINAL-URL:http://www.lahtiseura.fi
X-WR-CALDESC:Events for Lahti-Seura ry
BEGIN:VEVENT
DTSTART;TZID=UTC+2:20141103T180000
DTEND;TZID=UTC+2:20141103T190000
DTSTAMP:20260421T180024
CREATED:20140227T192007Z
LAST-MODIFIED:20141012T162937Z
UID:295-1415037600-1415041200@www.lahtiseura.fi
SUMMARY:Sääntömääräinen syyskokous
DESCRIPTION:Lahti-Seuran syyskokous pidetään Lyseon juhlasalissa marraskuun 3. päivä alkaen klo 18. \nHallitus toivoo seuran jäsenten osallistuvan runsaslukuisen yhdistyksen kokoukseen ja vaikuttamaan seuran toimintaan.\nKokouksessa käsitellään sääntömääräiset asiat: \n– Valitaan kokouksen puheenjohtaja ja sihteeri sekä pöytäkirjantarkastajaa.\n– Todetaan kokouksen laillisuus ja päätösvaltaisuus.\n– Hyväksytään seuraavan vuoden toimintasuunnitelma.\n– Määrätään seuraavan vuoden jäsenmaksu.\n– Päätetään hallituksen jäsenten ja tilintarkastajien (nyk. toiminnantarkastajien) palkkiosta.\n– Hyväksytään seuraavan vuoden talousarvio.\n– Valitaan seuran hallituksen puheenjohtaja\, jota kutsutaan seuran puheenjohtajaksi.\n– Valitaan jäsenet hallitukseen erovuoroisten tilalle.\n– Valitaan kaksi tilintarkastajaa (toiminnantarkastajaa) ja näille varamiehet tarkastamaan seuraavan vuoden tilejä ja hallintoa.\n– Päätetään seuran kokouksen koollekutsumistavasta 7 :n määräämissä rajoissa.\n– Käsitellään muut mahdollisesti esille tulevat asiat\, joista hallitukselle on tehty esitys vähintään kolmekymmentä (30) päivää ennen kokousta ja jotka hallitus haluaa vuosikokoukselle esittää \nKokouksesta kutsu myös Uusi Lahti -lehden järjestöpalstalla\, Hollolan Lahti -lehdessä 3/2014\, sekä näillä verkkosivuilla\, Facebook-ryhmässä ja sähköpostiviestinä. \n
URL:http://www.lahtiseura.fi/tapahtuma/saantomaarainen-syyskokous/
LOCATION:Lahdenkatu 6\, Lahti
CATEGORIES:kokous
END:VEVENT
END:VCALENDAR