BEGIN:VCALENDAR
VERSION:2.0
PRODID:-//Lahti-Seura ry - ECPv4.6.12//NONSGML v1.0//EN
CALSCALE:GREGORIAN
METHOD:PUBLISH
X-WR-CALNAME:Lahti-Seura ry
X-ORIGINAL-URL:http://www.lahtiseura.fi
X-WR-CALDESC:Events for Lahti-Seura ry
BEGIN:VEVENT
DTSTART;TZID=UTC+2:20161101T170000
DTEND;TZID=UTC+2:20161101T180000
DTSTAMP:20260421T005852
CREATED:20160917T185326Z
LAST-MODIFIED:20160917T185326Z
UID:592-1478019600-1478023200@www.lahtiseura.fi
SUMMARY:Sääntömääräinen syyskokous
DESCRIPTION:
URL:http://www.lahtiseura.fi/tapahtuma/saantomaarainen-syyskokous-2/
LOCATION:Saimaankatu 12\, Lahti
CATEGORIES:kokous
END:VEVENT
END:VCALENDAR