BEGIN:VCALENDAR
VERSION:2.0
PRODID:-//Lahti-Seura ry - ECPv4.6.12//NONSGML v1.0//EN
CALSCALE:GREGORIAN
METHOD:PUBLISH
X-WR-CALNAME:Lahti-Seura ry
X-ORIGINAL-URL:http://www.lahtiseura.fi
X-WR-CALDESC:Events for Lahti-Seura ry
BEGIN:VEVENT
DTSTART;TZID=UTC+2:20130320T180000
DTEND;TZID=UTC+2:20130320T200000
DTSTAMP:20260422T030634
CREATED:20130225T221407Z
LAST-MODIFIED:20130515T122105Z
UID:200-1363802400-1363809600@www.lahtiseura.fi
SUMMARY:Sääntömääräinen kevätkokous (+hallituksen kokous 2/2013)
DESCRIPTION:Kokouksessa käsitellään edellisen vuoden toimintakertomus\, esitellään tilinpäätös ja toiminnantarkastajien lausunto sekä päätetään tilien hyväksymisestä ja vastuuvapauden myöntämisestä tilivelvollisille. \nKokouksen jälkeen kuulemme c/oMalskista sekä Malski-projektin etenemisestä. \nKahvitarjoilu\, tervetuloa! \n
URL:http://www.lahtiseura.fi/tapahtuma/saantomaarainen-kevatkokous/
LOCATION:Kulmakatu 5\, Lahti
CATEGORIES:kokous,tapahtuma
END:VEVENT
END:VCALENDAR