BEGIN:VCALENDAR
VERSION:2.0
PRODID:-//Lahti-Seura ry - ECPv4.6.12//NONSGML v1.0//EN
CALSCALE:GREGORIAN
METHOD:PUBLISH
X-WR-CALNAME:Lahti-Seura ry
X-ORIGINAL-URL:http://www.lahtiseura.fi
X-WR-CALDESC:Events for Lahti-Seura ry
BEGIN:VEVENT
DTSTART;TZID=UTC+2:20200901T090000
DTEND;TZID=UTC+2:20200930T200000
DTSTAMP:20260419T175532
CREATED:20200819T152822Z
LAST-MODIFIED:20200819T155005Z
UID:932-1598950800-1601496000@www.lahtiseura.fi
SUMMARY:Rautateiden Lahti -näyttely
DESCRIPTION:Rautatieaiheinen näyttely Lahden pääkirjaston aulassa 1.-30.9.\nSermien julisteissa on infoa Lahden rautateistä sekä harrastamisesta. Lisäksi vitriineissä pienoisrautateitä. \n
URL:http://www.lahtiseura.fi/tapahtuma/rautateiden-lahti-nayttely/
CATEGORIES:tapahtuma
END:VEVENT
END:VCALENDAR