BEGIN:VCALENDAR
VERSION:2.0
PRODID:-//Lahti-Seura ry - ECPv4.6.12//NONSGML v1.0//EN
CALSCALE:GREGORIAN
METHOD:PUBLISH
X-WR-CALNAME:Lahti-Seura ry
X-ORIGINAL-URL:http://www.lahtiseura.fi
X-WR-CALDESC:Events for Lahti-Seura ry
BEGIN:VEVENT
DTSTART;TZID=UTC+2:20150428T130000
DTEND;TZID=UTC+2:20150428T143000
DTSTAMP:20260421T151139
CREATED:20150422T065436Z
LAST-MODIFIED:20150422T070337Z
UID:440-1430226000-1430231400@www.lahtiseura.fi
SUMMARY:Radiomäelle opaskierros 28.4.
DESCRIPTION:Lahti-opas ja seuran hallituksen jäsen Anneli Seppälä tutustuttaa Radiomäen ympäristöön tiistaina 28.4. klo 13-14.30. Samalla hän kertoo mielenkiintoisia tarinoita Lahdesta ja kaupungintalosta. \nLähtö tapahtuu kaupungintalon edestä\, Harjukatu 31. Opastuksen hinta 5 e/hlö\, joka maksetaan oppaalle ennen opastuksen alkua. Kierros toteutetaan\, jos on yksikin lähtijä.\nSäänmukainen varustus\, kierros tehdään myös sateen sattuessa. \nTervetuloa kierrokselle!​ \n
URL:http://www.lahtiseura.fi/tapahtuma/radiomaelle-opaskierros-28-4/
LOCATION:Harjukatu 31\, Lahti
CATEGORIES:retki
ORGANIZER;CN="Lahden%20seudun%20oppaat%20ry":MAILTO:annukka.holma@gmail.com
END:VEVENT
END:VCALENDAR