BEGIN:VCALENDAR
VERSION:2.0
PRODID:-//Lahti-Seura ry - ECPv4.6.12//NONSGML v1.0//EN
CALSCALE:GREGORIAN
METHOD:PUBLISH
X-WR-CALNAME:Lahti-Seura ry
X-ORIGINAL-URL:http://www.lahtiseura.fi
X-WR-CALDESC:Events for Lahti-Seura ry
BEGIN:VEVENT
DTSTART;TZID=UTC+2:20191014T110000
DTEND;TZID=UTC+2:20191103T200000
DTSTAMP:20260420T013133
CREATED:20190920T154316Z
LAST-MODIFIED:20190927T171816Z
UID:803-1571050800-1572811200@www.lahtiseura.fi
SUMMARY:Lasten Lahti -näyttely
DESCRIPTION:Lasten Lahti -näyttely pääkirjastolla. \n
URL:http://www.lahtiseura.fi/tapahtuma/lasten-lahti-nayttely/
LOCATION:Kirkkokatu 31\, Lahti
CATEGORIES:tapahtuma
END:VEVENT
END:VCALENDAR