BEGIN:VCALENDAR
VERSION:2.0
PRODID:-//Lahti-Seura ry - ECPv4.6.12//NONSGML v1.0//EN
CALSCALE:GREGORIAN
METHOD:PUBLISH
X-WR-CALNAME:Lahti-Seura ry
X-ORIGINAL-URL:http://www.lahtiseura.fi
X-WR-CALDESC:Events for Lahti-Seura ry
BEGIN:VEVENT
DTSTART;TZID=UTC+2:20131028T200000
DTEND;TZID=UTC+2:20131028T211500
DTSTAMP:20260422T000218
CREATED:20130423T180221Z
LAST-MODIFIED:20131027T104946Z
UID:219-1382990400-1382994900@www.lahtiseura.fi
SUMMARY:Lahti-filmi -iltama Kino Iiriksessä (näytös 2)
DESCRIPTION:Ajankuvia Lahdesta eri vuosikymmeniltä – Lahti-filmi -iltama osa 2. Kokonaiskesto n. 69 min. Tilaisuuteen vapaa pääsy. Historian harrastaja Unto Rönkkönen alustaa. \nOhjelma: \nSuomen Chicago – Amulet / Amulet-yhtyeen live-taltiointi ja haastattelu Sibeliustalolta / Tuottanut Tapani Ripatti / valm. v. 2006 / kesto 4:30\nGonzo-rock-tapahtumasta Sibeliustalolla taltioitu lahtelaisbändin tunnetuin kappale ja bändin kuulumiset keikan jälkeen. \nLahden kummitus / Ohjaus: Aki Mäkiaho / valm. v. 2007 / kesto 18:00\nKummitukset ovat uudisrakentamisen myötä katoavaa paikan henkeä. Vuonna 1974 Lahden Sammonkatu 26:ssa havaittiin viimeisin kohuttu poltergeist. \nYhtä ja toista yleislakon päiviltä 1.-19.3. -.56 / Kai R. Lehtonen / valm. v. 1956 / kesto 4:20\nTalvisia tunnelmia yleislakon ajoilta vuodelta 1956. Tallenteessa ei ääntä. \nHakkapeliitat… / Anja Johansson / valm. v. 1991 / kesto 11:00\nHakkapeliittapatsas siirrettiin sairaalanmäeltä nykyiselle paikalleen vuonna 1991. \nEedenistä Iirikseen / Ohjaus: Mikko Kykkänen / valm. v 1994 / kesto 7:42\nElokuvateatteri Kino Iiris vuonna 1994. \nTelineiden varjossa / Tekijä: Pentti Ruohoniemi (esitysoikeudet Unto Rönkkönen / valm. v. 1958 / kesto  20:20\nDokumentaatio jo puretusta Keski-Lahden koulun rakentamisesta nykyisen Malskin alueella. \nOltaispa nyt Lahessa 1 & 2 / Tekijä: Marianne Valola / Valm. v. 2011 / kesto yhteensä 3:15\nHuumorisävytteinen hatunnosto Lahelle\, käytännöllisen kokoiselle ja maanläheiselle kaupungille. \n
URL:http://www.lahtiseura.fi/tapahtuma/lahtifilmi-iltama-kino-iiriksessa-osa-2/
LOCATION:Saimaankatu 12\, Lahti
CATEGORIES:tapahtuma
END:VEVENT
END:VCALENDAR