BEGIN:VCALENDAR
VERSION:2.0
PRODID:-//Lahti-Seura ry - ECPv4.6.12//NONSGML v1.0//EN
CALSCALE:GREGORIAN
METHOD:PUBLISH
X-WR-CALNAME:Lahti-Seura ry
X-ORIGINAL-URL:http://www.lahtiseura.fi
X-WR-CALDESC:Events for Lahti-Seura ry
BEGIN:VEVENT
DTSTART;TZID=UTC+2:20160319T103000
DTEND;TZID=UTC+2:20160319T220000
DTSTAMP:20260421T072553
CREATED:20160103T183023Z
LAST-MODIFIED:20160216T173331Z
UID:522-1458383400-1458424800@www.lahtiseura.fi
SUMMARY:Lahti-Seura Tammisalissa
DESCRIPTION:Elokuvateatteri Kino Iiriksen Tammisalissa Lahti-Seura järjestää ohjelmaa valokuvien ja filmien ympärille\, ja samalla juhlistetaan 70-vuotiasta seuraa. Tapahtuma on osana Kinos-elokuvafestivaalia. \nMuusta ohjelmasta tiedotetaan tarkemmin maaliskuun aikana. \nTammisalissa toimii myös elokuvafestivaalin Tulipyörä-kahvio klo 10.30 eteenpäin. \nSisäänkäynti Kino Iiriksen ulko-ovesta\, Saimaankatu 12. \n  \n
URL:http://www.lahtiseura.fi/tapahtuma/lahti-seura-tammisalissa/
LOCATION:Saimaankatu 12\, Lahti
CATEGORIES:tapahtuma
END:VEVENT
END:VCALENDAR