BEGIN:VCALENDAR
VERSION:2.0
PRODID:-//Lahti-Seura ry - ECPv4.6.12//NONSGML v1.0//EN
CALSCALE:GREGORIAN
METHOD:PUBLISH
X-WR-CALNAME:Lahti-Seura ry
X-ORIGINAL-URL:http://www.lahtiseura.fi
X-WR-CALDESC:Events for Lahti-Seura ry
BEGIN:VEVENT
DTSTART;TZID=UTC+2:20201031T120000
DTEND;TZID=UTC+2:20201031T130000
DTSTAMP:20260419T173921
CREATED:20200809T162411Z
LAST-MODIFIED:20201025T084511Z
UID:927-1604145600-1604149200@www.lahtiseura.fi
SUMMARY:Lahti-päivä
DESCRIPTION:Ohjelmassa mm. esitelmä ja Vuoden lahtelainen -tunnustuksen julkistaminen. \nKlo 12 alkaen:\n– Puheenjohtaja Sauli Hirvosen avaussanat\n– Lahden Laulajat -kuoron esittely\, jonka jälkeen kuoro esittää laulun\n– Hannu Kivilä kertoo Lahden bussiliikenteestä\n– Lahden Laulajat esittää yhden laulun\n– Vuoden lahtelainen -tunnustuksen julkistaminen\n– Hämäläisten laulu yhteislauluna \nTilaisuus pidetään Kino Iiris -salissa\, johon voidaan ottaa 45 henkeä. Ei kahvittelua.\nLue teatterin koronahuomiot. \nKoronatilanne voi vaikuttaa tilaisuuteen \nLahden kaupunki täyttää 1. päivänä marraskuuta 115 vuotta.\n \n
URL:http://www.lahtiseura.fi/tapahtuma/lahti-paiva/
LOCATION:Saimaankatu 12\, Lahti
CATEGORIES:tapahtuma
END:VEVENT
END:VCALENDAR