BEGIN:VCALENDAR
VERSION:2.0
PRODID:-//Lahti-Seura ry - ECPv4.6.12//NONSGML v1.0//EN
CALSCALE:GREGORIAN
METHOD:PUBLISH
X-WR-CALNAME:Lahti-Seura ry
X-ORIGINAL-URL:http://www.lahtiseura.fi
X-WR-CALDESC:Events for Lahti-Seura ry
BEGIN:VEVENT
DTSTART;TZID=UTC+2:20211030T120000
DTEND;TZID=UTC+2:20211030T140000
DTSTAMP:20260419T145930
CREATED:20210113T164521Z
LAST-MODIFIED:20211028T092839Z
UID:958-1635595200-1635602400@www.lahtiseura.fi
SUMMARY:Lahti-päivä
DESCRIPTION:Klo 12 alkaen\nTrumpetisti Santtu Känkäsen avaussoitto\nAlkusanat Sauli Hirvonen \nKotiseututyön monet muodot -seminaariosuus:\nRiitta Kokko-Parikka (Puheenjohtaja / Lahden seudun sukututkijat ry)\nJanne Ridanpää (FM)\nKari Salmi (Kaupunkineuvos): Kunnallisen päätöksenteon muuttuminen 1970 – luvulta tähän päivään\nJokaisen esitelmöitsijän puheenvuoro 25 min. Lopuksi yhteinen paneelikeskustelu. Seminaarin puheenjohtajana toimii Erpo Heinolainen. \nTrumpetisti Santtu Känkänen esiintyy \nVuoden lahtelainen -tunnustuksen saajan julkistaminen \n”Hämäläisten laulu” (yhdessä)\nLoppukiitokset \nTilaisuudessa on myynnissä Lahden seutu kartoin -kirjaa jäsenille 40 euroa (muille 48 euroa). \n
URL:http://www.lahtiseura.fi/tapahtuma/lahti-paiva-2/
LOCATION:Saimaankatu 12\, Lahti
CATEGORIES:tapahtuma
END:VEVENT
END:VCALENDAR