BEGIN:VCALENDAR
VERSION:2.0
PRODID:-//Lahti-Seura ry - ECPv4.6.12//NONSGML v1.0//EN
CALSCALE:GREGORIAN
METHOD:PUBLISH
X-WR-CALNAME:Lahti-Seura ry
X-ORIGINAL-URL:http://www.lahtiseura.fi
X-WR-CALDESC:Events for Lahti-Seura ry
BEGIN:VEVENT
DTSTART;TZID=UTC+2:20141016T190000
DTEND;TZID=UTC+2:20141016T203000
DTSTAMP:20260421T163414
CREATED:20140913T123813Z
LAST-MODIFIED:20141001T065350Z
UID:352-1413486000-1413491400@www.lahtiseura.fi
SUMMARY:Lahti-filmi -iltama osa 4
DESCRIPTION:Osana Päijät-Hämeen Elokuvakeskuksen 25-vuotisjuhlaviikkoa. \nLisätietoja osoitteessa kotiseutufilmit.fi \n
URL:http://www.lahtiseura.fi/tapahtuma/lahti-filmi-iltama-osa-4/
LOCATION:Saimaankatu 12\, Lahti
CATEGORIES:tapahtuma
END:VEVENT
END:VCALENDAR