BEGIN:VCALENDAR
VERSION:2.0
PRODID:-//Lahti-Seura ry - ECPv4.6.12//NONSGML v1.0//EN
CALSCALE:GREGORIAN
METHOD:PUBLISH
X-WR-CALNAME:Lahti-Seura ry
X-ORIGINAL-URL:http://www.lahtiseura.fi
X-WR-CALDESC:Events for Lahti-Seura ry
BEGIN:VEVENT
DTSTART;TZID=UTC+2:20130402T200000
DTEND;TZID=UTC+2:20130402T214500
DTSTAMP:20260422T014054
CREATED:20130225T130111Z
LAST-MODIFIED:20130423T180530Z
UID:189-1364932800-1364939100@www.lahtiseura.fi
SUMMARY:Lahtifilmi-iltamat Kino Iiriksessä (näytös 1)
DESCRIPTION:\nTiistaina 2.4. alkaen klo 20 elokuvateatteri Kino Iiriksessä Lahtifilmi-iltama. Näytös on osana Kinos-filmifestivaalin ohjelmistoa. \nOhjelmistossa:\nLahti esittäytyy – Harjujen ja järvien kaunis kaupunki / Veikko Laihanen Oy 12:00\nLahti – kansainvälinen hiihtokaupunki / Veikko Laihanen Oy 11:00\nLahti in Timelapse – Audio Visual Journey / Seppo Pessa\, 2012 14:26\nLeipäpuu / Arvo Korkkinen\, 1965 11:00\nMasto / Kai R. Lehtonen\, 1958-1959 4:00\nEi oo Lahden voittanutta / Veikko Laihanen Oy 11:00\nPiipun henki / Keijo Skippari\, 2011 8:00\nSalpausselän kisat 1961 / SFilmi 8:40\nTipalan taru / Keijo Skippari\, 2009 8:00\nHollolal Lahti – Tarmokas tahti / SFilmi 12:00 \nKokonaiskesto 1 h 40 min. Vapaa pääsy. \nTervetuloa! \nLisätietoja Kotiseutufilmiprojektista  \nProjektin esittely (YouTube) \n\n
URL:http://www.lahtiseura.fi/tapahtuma/lahti-filmeja-kino-iiriksessa/
LOCATION:Saimaankatu 12\, Lahti\, Finland
CATEGORIES:tapahtuma
END:VEVENT
END:VCALENDAR