BEGIN:VCALENDAR
VERSION:2.0
PRODID:-//Lahti-Seura ry - ECPv4.6.12//NONSGML v1.0//EN
CALSCALE:GREGORIAN
METHOD:PUBLISH
X-WR-CALNAME:Lahti-Seura ry
X-ORIGINAL-URL:http://www.lahtiseura.fi
X-WR-CALDESC:Events for Lahti-Seura ry
BEGIN:VEVENT
DTSTART;TZID=UTC+2:20151202T180000
DTEND;TZID=UTC+2:20151202T190000
DTSTAMP:20260421T091335
CREATED:20151119T113747Z
LAST-MODIFIED:20151119T113747Z
UID:511-1449079200-1449082800@www.lahtiseura.fi
SUMMARY:Lahtelaisen sanakirjan julkistamistilaisuus
DESCRIPTION:Hannu Kivilän Lahtelaisen sanakirjan julkistamistilaisuus Historiallisella museolla.\nKahvitarjoilua. \n  \n
URL:http://www.lahtiseura.fi/tapahtuma/lahtelaisen-sanakirjan-julkistamistilaisuus/
CATEGORIES:tapahtuma
END:VEVENT
END:VCALENDAR