BEGIN:VCALENDAR
VERSION:2.0
PRODID:-//Lahti-Seura ry - ECPv4.6.12//NONSGML v1.0//EN
CALSCALE:GREGORIAN
METHOD:PUBLISH
X-WR-CALNAME:Lahti-Seura ry
X-ORIGINAL-URL:http://www.lahtiseura.fi
X-WR-CALDESC:Events for Lahti-Seura ry
BEGIN:VEVENT
DTSTART;TZID=UTC+2:20140811T100000
DTEND;TZID=UTC+2:20140829T170000
DTSTAMP:20260421T180151
CREATED:20140804T195515Z
LAST-MODIFIED:20140811T194116Z
UID:341-1407751200-1409331600@www.lahtiseura.fi
SUMMARY:Lahden yllä - Kai R. Lehtosen valokuvia
DESCRIPTION:Kai R. Lehtosen ottamia ilmakuvia Lahdesta 1950-luvulta 1990-luvulle co/Galleriassa 11.-29.8.2014.\nNäyttelyn järjestävät yhteistyössä Lahti-Seura ry ja Luovat ry co/Malskin tiloissa Kulmakatu 5:ssä. Galleria avoinna ma-pe 10-17. Näyttelyyn vapaa pääsy.​ \n
URL:http://www.lahtiseura.fi/tapahtuma/lahden-ylla-kai-r-lehtosen-valokuvia/
LOCATION:Kulmakatu 5\, Lahti
CATEGORIES:tapahtuma
END:VEVENT
END:VCALENDAR