BEGIN:VCALENDAR
VERSION:2.0
PRODID:-//Lahti-Seura ry - ECPv4.6.12//NONSGML v1.0//EN
CALSCALE:GREGORIAN
METHOD:PUBLISH
X-WR-CALNAME:Lahti-Seura ry
X-ORIGINAL-URL:http://www.lahtiseura.fi
X-WR-CALDESC:Events for Lahti-Seura ry
BEGIN:VEVENT
DTSTART;VALUE=DATE:20130907
DTEND;VALUE=DATE:20130908
DTSTAMP:20260421T210400
CREATED:20130813T172601Z
LAST-MODIFIED:20130824T150013Z
UID:255-1378512000-1378598399@www.lahtiseura.fi
SUMMARY:Lahden Taidelauantai
DESCRIPTION:Lahden kaupungintalon puistojuhlassa jaetaan Vuoden nuori lahtelainen -tunnustus klo 12. Tervetuloa! \n
URL:http://www.lahtiseura.fi/tapahtuma/lahden-taidelauantai/
CATEGORIES:tapahtuma
END:VEVENT
END:VCALENDAR