BEGIN:VCALENDAR
VERSION:2.0
PRODID:-//Lahti-Seura ry - ECPv4.6.12//NONSGML v1.0//EN
CALSCALE:GREGORIAN
METHOD:PUBLISH
X-WR-CALNAME:Lahti-Seura ry
X-ORIGINAL-URL:http://www.lahtiseura.fi
X-WR-CALDESC:Events for Lahti-Seura ry
BEGIN:VEVENT
DTSTART;TZID=UTC+2:20221101T170000
DTEND;TZID=UTC+2:20221101T180000
DTSTAMP:20260419T131737
CREATED:20221020T133227Z
LAST-MODIFIED:20221020T134143Z
UID:1085-1667322000-1667325600@www.lahtiseura.fi
SUMMARY:Lahden syntymäpäivä
DESCRIPTION:Tiistaina 1.11. vietetään 117 vuotta täyttävän Lahden kaupungin syntymäpäivää. Syntymäpäiväjuhlat ovat kaikille avoin ja maksuton koko perheen tapahtuma. Tervetuloa mukaan juhlatunnelmaan! \nToritapahtumassa Lahti-Seura jakaa Vuoden lahtelainen -tunnustuksen. \nKatso koko viikon ohjelmisto. \n \n
URL:http://www.lahtiseura.fi/tapahtuma/lahden-syntymapaiva/
CATEGORIES:tapahtuma
END:VEVENT
END:VCALENDAR