BEGIN:VCALENDAR
VERSION:2.0
PRODID:-//Lahti-Seura ry - ECPv4.6.12//NONSGML v1.0//EN
CALSCALE:GREGORIAN
METHOD:PUBLISH
X-WR-CALNAME:Lahti-Seura ry
X-ORIGINAL-URL:http://www.lahtiseura.fi
X-WR-CALDESC:Events for Lahti-Seura ry
BEGIN:VEVENT
DTSTART;TZID=UTC+2:20170404T180000
DTEND;TZID=UTC+2:20170404T190000
DTSTAMP:20260420T181725
CREATED:20170113T070404Z
LAST-MODIFIED:20170119T155646Z
UID:621-1491328800-1491332400@www.lahtiseura.fi
SUMMARY:Lahden Sukututkijat -vierailu
DESCRIPTION:Lahden Sukututkijat ry 4.4.2017 klo 18\n\nVierailu Lahden Sukututkijat ry:n tiloihin. Osoite on Väinämöisentie 2A. \nEi ennakkoilmoittautumista. \n
URL:http://www.lahtiseura.fi/tapahtuma/lahden-sukututkijat-vierailu/
CATEGORIES:tapahtuma
END:VEVENT
END:VCALENDAR