BEGIN:VCALENDAR
VERSION:2.0
PRODID:-//Lahti-Seura ry - ECPv4.6.12//NONSGML v1.0//EN
CALSCALE:GREGORIAN
METHOD:PUBLISH
X-WR-CALNAME:Lahti-Seura ry
X-ORIGINAL-URL:http://www.lahtiseura.fi
X-WR-CALDESC:Events for Lahti-Seura ry
BEGIN:VEVENT
DTSTART;TZID=UTC+2:20181121T180000
DTEND;TZID=UTC+2:20181121T200000
DTSTAMP:20260420T061918
CREATED:20181001T142446Z
LAST-MODIFIED:20181111T143304Z
UID:738-1542823200-1542830400@www.lahtiseura.fi
SUMMARY:Lahti-päivä (seminaari)
DESCRIPTION:Kotiseutuseminaari elokuvateatteri Kino Iiriksen elokuvasalissa. Aiheena historiateokset. Tilaisuudessa julkistetaan myös Vuoden lahtelainen. Tilaisuus on kaikille avoin\, tervetuloa! \n  \n
URL:http://www.lahtiseura.fi/tapahtuma/kotiseutuseminaari-3/
CATEGORIES:tapahtuma
END:VEVENT
END:VCALENDAR