BEGIN:VCALENDAR
VERSION:2.0
PRODID:-//Lahti-Seura ry - ECPv4.6.12//NONSGML v1.0//EN
CALSCALE:GREGORIAN
METHOD:PUBLISH
X-WR-CALNAME:Lahti-Seura ry
X-ORIGINAL-URL:http://www.lahtiseura.fi
X-WR-CALDESC:Events for Lahti-Seura ry
BEGIN:VEVENT
DTSTART;TZID=UTC+2:20160518T180000
DTEND;TZID=UTC+2:20160518T200000
DTSTAMP:20260421T040713
CREATED:20160421T184016Z
LAST-MODIFIED:20160421T184016Z
UID:565-1463594400-1463601600@www.lahtiseura.fi
SUMMARY:Kotiseutuseminaari
DESCRIPTION:Uuden Lahden kotiseutuseminaari.\nJärjestäjinä Lahti-Seura ja Nastola-seura. \nLisätietoja myöhemmin.  \n
URL:http://www.lahtiseura.fi/tapahtuma/kotiseutuseminaari-2/
CATEGORIES:tapahtuma
END:VEVENT
END:VCALENDAR