BEGIN:VCALENDAR
VERSION:2.0
PRODID:-//Lahti-Seura ry - ECPv4.6.12//NONSGML v1.0//EN
CALSCALE:GREGORIAN
METHOD:PUBLISH
X-WR-CALNAME:Lahti-Seura ry
X-ORIGINAL-URL:http://www.lahtiseura.fi
X-WR-CALDESC:Events for Lahti-Seura ry
BEGIN:VEVENT
DTSTART;TZID=UTC+2:20221117T190000
DTEND;TZID=UTC+2:20221117T210000
DTSTAMP:20260421T091257
CREATED:20221004T143112Z
LAST-MODIFIED:20221031T045307Z
UID:1090-1668711600-1668718800@www.lahtiseura.fi
SUMMARY:Kostonkierre-näytelmä
DESCRIPTION:Lahti-Seura järjestää teatteriretken Lahden kaupunginteatterin Kostonkierre -näytelmään torstaina 17.11. klo 19.00. \nNäytelmään ilmoittautuminen on päättynyt\, lisätiedot lahti.seura[at]gmail.com. \nTutustumiskierros alkaa klo 17.30. Lisäksi teatterin edustaja esittelee ryhmälle Kostonkierre-näytelmän lavasteet Juhani-näyttämöllä sekä Päivä teatterissa -videon (n. 10 min).\nEsittelyn jälkeen on mahdollisuus tutustua Reunanpalsta –  Elämää kaupungin sylissä -näyttelyyn Aino-näyttämön näyttelyaulassa klo 19.00 asti. Mukana kierroksella on myös kirjailija Timo Sandberg. \n
URL:http://www.lahtiseura.fi/tapahtuma/kostonkierre-naytelma/
LOCATION:Kirkkokatu 14\, Lahti\, Suomi
CATEGORIES:tapahtuma
END:VEVENT
END:VCALENDAR