BEGIN:VCALENDAR
VERSION:2.0
PRODID:-//Lahti-Seura ry - ECPv4.6.12//NONSGML v1.0//EN
CALSCALE:GREGORIAN
METHOD:PUBLISH
X-WR-CALNAME:Lahti-Seura ry
X-ORIGINAL-URL:http://www.lahtiseura.fi
X-WR-CALDESC:Events for Lahti-Seura ry
BEGIN:VEVENT
DTSTART;TZID=UTC+2:20130521T163000
DTEND;TZID=UTC+2:20130521T200000
DTSTAMP:20260422T013749
CREATED:20130321T155416Z
LAST-MODIFIED:20130321T155416Z
UID:208-1369153800-1369166400@www.lahtiseura.fi
SUMMARY:Kevätretki UKK-arkistoon
DESCRIPTION:LYK:n Seniorit-yhdistyksen ja Lahti-Seuran järjestää kevätretken tiistaina 21. toukokuuta 2013. Kohde on Tasavallan Presidentin arkisto Orimattilan Niinikoskella. \nLähtö 16.30 Lahden yhteiskoululta ja saapuminen Hovilan tilalle UKK-arkistoon n. 17.10.\nLähtö n. 18.10 Niinikosken kyläkoululle\, joka toimii kyläkahvilana\, Tapolan kyläyhteisön järjestämä kahvi- ja teehetki n. 18.15 – 18.45. Ostettavissa myös luomuleivonnaisia\, yrttisekoituksia\, luomukananmunia ja käsityötuotteita.\nLisäksi tutustutaan Niinikosken nuorisoseurantalo Kerholaan\, joka on osin EU-rahoilla kunnostettu.\nPaluu Lahteen n. 19.40-19.50. \nRetken hinta on 15 euroa\, joka sisältää kahvin/teen ja pullan. Ilmoittautumiset viimeistään 14. toukokuuta osoitteeseen: aune.kirjola@gmail.com\n(Aune Kirjola on LYK:n sihteeri ja taloudenhoitaja). \nLisätietoja antaa Onerva Vartiainen: ovartia@edu.lahti.fi\, puh. 03-734 0855. \n
URL:http://www.lahtiseura.fi/tapahtuma/kevatretki-ukk-arkistoon/
LOCATION:Orimattila
CATEGORIES:retki
ORGANIZER;CN="Lahti-seura%20ja%20LYK%3An%20Seniorit":MAILTO:aune.kirjola@gmail.com
END:VEVENT
END:VCALENDAR