BEGIN:VCALENDAR
VERSION:2.0
PRODID:-//Lahti-Seura ry - ECPv4.6.12//NONSGML v1.0//EN
CALSCALE:GREGORIAN
METHOD:PUBLISH
X-WR-CALNAME:Lahti-Seura ry
X-ORIGINAL-URL:http://www.lahtiseura.fi
X-WR-CALDESC:Events for Lahti-Seura ry
BEGIN:VEVENT
DTSTART;TZID=UTC+2:20200603T173000
DTEND;TZID=UTC+2:20200603T180000
DTSTAMP:20260419T204953
CREATED:20200511T143714Z
LAST-MODIFIED:20200514T151342Z
UID:918-1591205400-1591207200@www.lahtiseura.fi
SUMMARY:Kevätkokous
DESCRIPTION:Sääntömääräinen kevätkokous pidetään Tammisalissa keskiviikkona 3.6. klo 17.30. Kokouksessa hyväksytään tilit. \nKokouksen jälkeen on mahdollista tutustua Lahden seutu kartoin -kirjaan. Kirjan voi ostaa käteisellä tai ennakkomaksulla. Lisätietoja kirjasta lahti.seura@gmail.com. \n
URL:http://www.lahtiseura.fi/tapahtuma/kevatkokous-7/
LOCATION:Saimaankatu 12\, Lahti
CATEGORIES:kokous
END:VEVENT
END:VCALENDAR