BEGIN:VCALENDAR
VERSION:2.0
PRODID:-//Lahti-Seura ry - ECPv4.6.12//NONSGML v1.0//EN
CALSCALE:GREGORIAN
METHOD:PUBLISH
X-WR-CALNAME:Lahti-Seura ry
X-ORIGINAL-URL:http://www.lahtiseura.fi
X-WR-CALDESC:Events for Lahti-Seura ry
BEGIN:VEVENT
DTSTART;TZID=UTC+2:20200325T170000
DTEND;TZID=UTC+2:20200325T190000
DTSTAMP:20260419T221615
CREATED:20200130T153117Z
LAST-MODIFIED:20200316T164425Z
UID:884-1585155600-1585162800@www.lahtiseura.fi
SUMMARY:Kevätkokous SIIRRETTY
DESCRIPTION:Sääntömääräinen kevätkokous siirretään toiseen ajankohtaan\, joka ilmoitetaan myöhemmin. \nKlo 17 Kokous seuran jäsenille\nKlo 17.30 (noin) Lahden seutu kartoissa -kirjan esittely (sis. kahvittelun)\nKlo 18 Jakke Naulapään esitelmä ”Lahti\, jääkausikaupunki”\nValitettavasti Jakke Naulapää on estynyt saapumaan pitämään esitelmää. Selvittelemme mahdollista korvaajaa…\n \n
URL:http://www.lahtiseura.fi/tapahtuma/kevatkokous-6/
LOCATION:Saimaankatu 12\, Lahti
CATEGORIES:kokous,tapahtuma
END:VEVENT
END:VCALENDAR