BEGIN:VCALENDAR
VERSION:2.0
PRODID:-//Lahti-Seura ry - ECPv4.6.12//NONSGML v1.0//EN
CALSCALE:GREGORIAN
METHOD:PUBLISH
X-WR-CALNAME:Lahti-Seura ry
X-ORIGINAL-URL:http://www.lahtiseura.fi
X-WR-CALDESC:Events for Lahti-Seura ry
BEGIN:VEVENT
DTSTART;TZID=UTC+2:20190327T170000
DTEND;TZID=UTC+2:20190327T180000
DTSTAMP:20260420T024308
CREATED:20181224T180947Z
LAST-MODIFIED:20190324T211355Z
UID:756-1553706000-1553709600@www.lahtiseura.fi
SUMMARY:Kevätkokous
DESCRIPTION:Sääntömääräinen kevätkokous. Sääntömääräisten asioiden lisäksi käsitellään hallituksen esittämät sääntömuutokset. Toinen yleiskokous pidetään 24.4.2019 alkaen klo 17. \nKokouksen jälkeen puheenjohtaja kertoo Lahti-Seuran toiminnasta ja projekteista. Kahvitarjoilu. \n
URL:http://www.lahtiseura.fi/tapahtuma/kevatkokous-5/
LOCATION:Saimaankatu 12\, Lahti
CATEGORIES:kokous
ORGANIZER;CN="Lahti-Seura%20ry":MAILTO:puheenjohtaja@lahtiseura.fi
END:VEVENT
END:VCALENDAR