BEGIN:VCALENDAR
VERSION:2.0
PRODID:-//Lahti-Seura ry - ECPv4.6.12//NONSGML v1.0//EN
CALSCALE:GREGORIAN
METHOD:PUBLISH
X-WR-CALNAME:Lahti-Seura ry
X-ORIGINAL-URL:http://www.lahtiseura.fi
X-WR-CALDESC:Events for Lahti-Seura ry
BEGIN:VEVENT
DTSTART;TZID=UTC+2:20200607T113000
DTEND;TZID=UTC+2:20200607T140000
DTSTAMP:20260419T191653
CREATED:20200511T145250Z
LAST-MODIFIED:20200604T135907Z
UID:919-1591529400-1591538400@www.lahtiseura.fi
SUMMARY:Karttakirjan myyntitapahtuma
DESCRIPTION:Lahden seutu kartoin -kirjaa on mahdollista ostaa elokuvateatteri Kino Iiriksessä sunnuntaina 7.6. klo 11.30-14 välisenä aikana.\nHuom. Käteinen tai ennakkomaksu. Lisätietoja lahti.seura@gmail.com \nSamaan aikaan teatterisalissa esitetään Risto Ilolan Lahdessa 1980- ja 90-luvuilla kuvaamia kojelautavideoita. Näytös koostuu neljästä videosta\, joita esitetään kahden tunnin ajan. Saliin voi saapua ja poistua kesken näytöksen.\nHUOM. Saliin vain 19 henkilöä kerralla.\n \nKokonaiskesto n. 70 min.\nVapaa pääsy. \n
URL:http://www.lahtiseura.fi/tapahtuma/karttakirjan-myyntitapahtuma/
LOCATION:Saimaankatu 12\, Lahti
CATEGORIES:tapahtuma
END:VEVENT
END:VCALENDAR