BEGIN:VCALENDAR
VERSION:2.0
PRODID:-//Lahti-Seura ry - ECPv4.6.12//NONSGML v1.0//EN
CALSCALE:GREGORIAN
METHOD:PUBLISH
X-WR-CALNAME:Lahti-Seura ry
X-ORIGINAL-URL:http://www.lahtiseura.fi
X-WR-CALDESC:Events for Lahti-Seura ry
BEGIN:VEVENT
DTSTART;TZID=UTC+2:20131010T180000
DTEND;TZID=UTC+2:20131010T200000
DTSTAMP:20260421T224013
CREATED:20130515T121746Z
LAST-MODIFIED:20130515T121746Z
UID:229-1381428000-1381435200@www.lahtiseura.fi
SUMMARY:Hallituksen kokous 6/2013
DESCRIPTION:
URL:http://www.lahtiseura.fi/tapahtuma/hallituksen-kokous-62013/
LOCATION:Lahti
CATEGORIES:kokous
END:VEVENT
END:VCALENDAR