BEGIN:VCALENDAR
VERSION:2.0
PRODID:-//Lahti-Seura ry - ECPv4.6.12//NONSGML v1.0//EN
CALSCALE:GREGORIAN
METHOD:PUBLISH
X-WR-CALNAME:Lahti-Seura ry
X-ORIGINAL-URL:http://www.lahtiseura.fi
X-WR-CALDESC:Events for Lahti-Seura ry
BEGIN:VEVENT
DTSTART;TZID=UTC+2:20150527T170000
DTEND;TZID=UTC+2:20150527T190000
DTSTAMP:20260421T153411
CREATED:20150422T065312Z
LAST-MODIFIED:20150422T065312Z
UID:439-1432746000-1432753200@www.lahtiseura.fi
SUMMARY:Hallituksen kokous
DESCRIPTION:
URL:http://www.lahtiseura.fi/tapahtuma/hallituksen-kokous-5/
CATEGORIES:kokous
END:VEVENT
END:VCALENDAR