BEGIN:VCALENDAR
VERSION:2.0
PRODID:-//Lahti-Seura ry - ECPv4.6.12//NONSGML v1.0//EN
CALSCALE:GREGORIAN
METHOD:PUBLISH
X-WR-CALNAME:Lahti-Seura ry
X-ORIGINAL-URL:http://www.lahtiseura.fi
X-WR-CALDESC:Events for Lahti-Seura ry
BEGIN:VEVENT
DTSTART;TZID=UTC+2:20150218T170000
DTEND;TZID=UTC+2:20150218T180000
DTSTAMP:20260421T150244
CREATED:20150129T220503Z
LAST-MODIFIED:20150129T220503Z
UID:397-1424278800-1424282400@www.lahtiseura.fi
SUMMARY:Hallituksen kokous
DESCRIPTION:
URL:http://www.lahtiseura.fi/tapahtuma/hallituksen-kokous-4/
CATEGORIES:kokous
END:VEVENT
END:VCALENDAR