BEGIN:VCALENDAR
VERSION:2.0
PRODID:-//Lahti-Seura ry - ECPv4.6.12//NONSGML v1.0//EN
CALSCALE:GREGORIAN
METHOD:PUBLISH
X-WR-CALNAME:Lahti-Seura ry
X-ORIGINAL-URL:http://www.lahtiseura.fi
X-WR-CALDESC:Events for Lahti-Seura ry
BEGIN:VEVENT
DTSTART;TZID=UTC+2:20130502T183000
DTEND;TZID=UTC+2:20130502T193000
DTSTAMP:20260422T001847
CREATED:20130423T185936Z
LAST-MODIFIED:20130515T121628Z
UID:222-1367519400-1367523000@www.lahtiseura.fi
SUMMARY:Hallituksen kokous 4/2013
DESCRIPTION:
URL:http://www.lahtiseura.fi/tapahtuma/hallituksen-kokous-3/
LOCATION:Lahti
CATEGORIES:kokous
END:VEVENT
END:VCALENDAR