BEGIN:VCALENDAR
VERSION:2.0
PRODID:-//Lahti-Seura ry - ECPv4.6.12//NONSGML v1.0//EN
CALSCALE:GREGORIAN
METHOD:PUBLISH
X-WR-CALNAME:Lahti-Seura ry
X-ORIGINAL-URL:http://www.lahtiseura.fi
X-WR-CALDESC:Events for Lahti-Seura ry
BEGIN:VEVENT
DTSTART;TZID=UTC+2:20170329T180000
DTEND;TZID=UTC+2:20170329T190000
DTSTAMP:20260420T162930
CREATED:20170119T154624Z
LAST-MODIFIED:20170312T170243Z
UID:627-1490810400-1490814000@www.lahtiseura.fi
SUMMARY:Esitelmä Lahden Tapanilasta
DESCRIPTION:Rakennustutkija Riitta Niskanen pitää esitelmän: ”Miten vanhat talot ja puutarhat voivat vastata uusiin asumisihanteisiin? – Lahden Tapanilan puutaloalueen säilyttäminen ja uudistaminen”.\nEsitelmän jälkeen mahdollisuus kysymyksille. Kesto n. 45 min. \nKaikille avoin tilaisuus. \n  \n
URL:http://www.lahtiseura.fi/tapahtuma/esitelma/
LOCATION:Saimaankatu 12\, Lahti
CATEGORIES:tapahtuma
END:VEVENT
END:VCALENDAR