BEGIN:VCALENDAR
VERSION:2.0
PRODID:-//Lahti-Seura ry - ECPv4.6.12//NONSGML v1.0//EN
CALSCALE:GREGORIAN
METHOD:PUBLISH
X-WR-CALNAME:Lahti-Seura ry
X-ORIGINAL-URL:http://www.lahtiseura.fi
X-WR-CALDESC:Events for Lahti-Seura ry
BEGIN:VEVENT
DTSTART;TZID=UTC+2:20170208T160000
DTEND;TZID=UTC+2:20170208T170000
DTSTAMP:20260420T200246
CREATED:20170113T070027Z
LAST-MODIFIED:20170113T070027Z
UID:620-1486569600-1486573200@www.lahtiseura.fi
SUMMARY:BW Tower -vierailu
DESCRIPTION:Tekninen virasto 8.2.2017 klo 16 \nTutustumme Lahden tekninen ja ympäristötoimiala – Maankäyttö ja aluehankkeet -osastoon. Kesto noin tunti.\nOsoite: BW Tower\, Askonkatu 2 Lahti\, 5 krs. \nIlmoittautuminen 31.1.2017 mennessä\, mukaan mahtuu 15 ensimmäistä henkilöä.\npuheenjohtaja@lahtiseura.fi tai puh. 050 3085303 (arkena mielellään tekstiviestillä) \n
URL:http://www.lahtiseura.fi/tapahtuma/bw-tower-vierailu/
CATEGORIES:tapahtuma
END:VEVENT
END:VCALENDAR