BEGIN:VCALENDAR
VERSION:2.0
PRODID:-//Lahti-Seura ry - ECPv4.6.12//NONSGML v1.0//EN
CALSCALE:GREGORIAN
METHOD:PUBLISH
X-WR-CALNAME:Lahti-Seura ry
X-ORIGINAL-URL:http://www.lahtiseura.fi
X-WR-CALDESC:Events for Lahti-Seura ry
BEGIN:VEVENT
DTSTART;TZID=UTC+2:20150429T120000
DTEND;TZID=UTC+2:20150429T150000
DTSTAMP:20260421T163543
CREATED:20150422T090826Z
LAST-MODIFIED:20150422T090826Z
UID:445-1430308800-1430319600@www.lahtiseura.fi
SUMMARY:Albumit auki Lahden kirjastossa
DESCRIPTION:Albumit auki Lahti ja Lahden kaupunginkirjasto-maakuntakirjasto järjestävät Lahden kaupunginkirjaston monitoimitilassa (2. krs) kevään 2015 aikana kolme valokuvien keruutilaisuutta. Toinen tilaisuus järjestetään keskiviikkona 29.4. \n
URL:http://www.lahtiseura.fi/tapahtuma/albumit-auki-lahden-kirjastossa/
LOCATION:Kirkkokatu 31\, Lahti
CATEGORIES:tapahtuma
END:VEVENT
END:VCALENDAR