BEGIN:VCALENDAR
VERSION:2.0
PRODID:-//Lahti-Seura ry - ECPv4.6.12//NONSGML v1.0//EN
CALSCALE:GREGORIAN
METHOD:PUBLISH
X-WR-CALNAME:Lahti-Seura ry
X-ORIGINAL-URL:http://www.lahtiseura.fi
X-WR-CALDESC:Events for Lahti-Seura ry
BEGIN:VEVENT
DTSTART;TZID=UTC+2:20191101T100000
DTEND;TZID=UTC+2:20191101T110000
DTSTAMP:20260420T024905
CREATED:20190920T152847Z
LAST-MODIFIED:20190927T171737Z
UID:800-1572602400-1572606000@www.lahtiseura.fi
SUMMARY:Lasten Lahti -lehden julkistamistilaisuus
DESCRIPTION:Lasten Lahti -lehden julkistamistilaisuus elokuvateatteri Kino Iiriksessä. Tervetuloa! \nSamana päivänä on Lahden kaupungin perustamisen 114-vuotispäivä. \n
URL:http://www.lahtiseura.fi/tapahtuma/800/
LOCATION:Saimaankatu 12\, Lahti
CATEGORIES:julkaisu,tapahtuma
END:VEVENT
END:VCALENDAR